BEGIN:VCALENDAR
VERSION:2.0
PRODID:-//Alianza Latina Internacional - ECPv6.15.20//NONSGML v1.0//EN
CALSCALE:GREGORIAN
METHOD:PUBLISH
X-ORIGINAL-URL:https://alianzalatinainternacional.org
X-WR-CALDESC:Events for Alianza Latina Internacional
REFRESH-INTERVAL;VALUE=DURATION:PT1H
X-Robots-Tag:noindex
X-PUBLISHED-TTL:PT1H
BEGIN:VTIMEZONE
TZID:America/Chicago
BEGIN:DAYLIGHT
TZOFFSETFROM:-0600
TZOFFSETTO:-0500
TZNAME:CDT
DTSTART:20240310T080000
END:DAYLIGHT
BEGIN:STANDARD
TZOFFSETFROM:-0500
TZOFFSETTO:-0600
TZNAME:CST
DTSTART:20241103T070000
END:STANDARD
BEGIN:DAYLIGHT
TZOFFSETFROM:-0600
TZOFFSETTO:-0500
TZNAME:CDT
DTSTART:20250309T080000
END:DAYLIGHT
BEGIN:STANDARD
TZOFFSETFROM:-0500
TZOFFSETTO:-0600
TZNAME:CST
DTSTART:20251102T070000
END:STANDARD
BEGIN:DAYLIGHT
TZOFFSETFROM:-0600
TZOFFSETTO:-0500
TZNAME:CDT
DTSTART:20260308T080000
END:DAYLIGHT
BEGIN:STANDARD
TZOFFSETFROM:-0500
TZOFFSETTO:-0600
TZNAME:CST
DTSTART:20261101T070000
END:STANDARD
END:VTIMEZONE
BEGIN:VEVENT
DTSTART;TZID=America/Chicago:20250106T080000
DTEND;TZID=America/Chicago:20250106T170000
DTSTAMP:20260421T031350
CREATED:20250106T182822Z
LAST-MODIFIED:20250106T182822Z
UID:595-1736150400-1736182800@alianzalatinainternacional.org
SUMMARY:May 1\, workers day march.
DESCRIPTION:
URL:https://alianzalatinainternacional.org/event/may-1-workers-day-march/
END:VEVENT
BEGIN:VEVENT
DTSTART;TZID=America/Chicago:20250125T123000
DTEND;TZID=America/Chicago:20250125T140000
DTSTAMP:20260421T031350
CREATED:20250106T182332Z
LAST-MODIFIED:20250106T184018Z
UID:589-1737808200-1737813600@alianzalatinainternacional.org
SUMMARY:CIBER SEGURIDAD BY CRIME STOPPERS
DESCRIPTION:← Back Thank you for your response. ✨\n\n\n					\n						\n							\n							\n						\n						\n						\n						\n						\n							\n								\n									\n										\n										\n									\n									\n										\n										\n									\n								\n							\n						\n						\n							\n								\n									\n									\n										\n									\n									\n									\n								\n							\n						\n					\n				\n\n\n\nName(required)\n\n \n			\n				\n					\n						\n						\n						\n					\n				\n				\n			 \n	\n\n\nEmail(required)\n\n \n			\n				\n					\n						\n						\n						\n					\n				\n				\n			 \n	\n\n\nWebsite\n\n \n			\n				\n					\n						\n						\n						\n					\n				\n				\n			 \n	\n\n\nMessage\n\n \n			\n				\n					\n						\n						\n						\n					\n				\n				\n			\n	\n	\n\n				\n					\n				\n						Submit
URL:https://alianzalatinainternacional.org/event/ciber-seguridad-by-crime-stoppers/
END:VEVENT
BEGIN:VEVENT
DTSTART;TZID=America/Chicago:20250125T130000
DTEND;TZID=America/Chicago:20250125T153000
DTSTAMP:20260421T031350
CREATED:20250106T182524Z
LAST-MODIFIED:20250106T182545Z
UID:592-1737810000-1737819000@alianzalatinainternacional.org
SUMMARY:ART WORKSHOP
DESCRIPTION:A
URL:https://alianzalatinainternacional.org/event/art-workshop/
END:VEVENT
END:VCALENDAR