BEGIN:VCALENDAR
VERSION:2.0
PRODID:-//Alianza Latina Internacional - ECPv6.15.20//NONSGML v1.0//EN
CALSCALE:GREGORIAN
METHOD:PUBLISH
X-ORIGINAL-URL:https://alianzalatinainternacional.org
X-WR-CALDESC:Events for Alianza Latina Internacional
REFRESH-INTERVAL;VALUE=DURATION:PT1H
X-Robots-Tag:noindex
X-PUBLISHED-TTL:PT1H
BEGIN:VTIMEZONE
TZID:America/Chicago
BEGIN:DAYLIGHT
TZOFFSETFROM:-0600
TZOFFSETTO:-0500
TZNAME:CDT
DTSTART:20240310T080000
END:DAYLIGHT
BEGIN:STANDARD
TZOFFSETFROM:-0500
TZOFFSETTO:-0600
TZNAME:CST
DTSTART:20241103T070000
END:STANDARD
BEGIN:DAYLIGHT
TZOFFSETFROM:-0600
TZOFFSETTO:-0500
TZNAME:CDT
DTSTART:20250309T080000
END:DAYLIGHT
BEGIN:STANDARD
TZOFFSETFROM:-0500
TZOFFSETTO:-0600
TZNAME:CST
DTSTART:20251102T070000
END:STANDARD
BEGIN:DAYLIGHT
TZOFFSETFROM:-0600
TZOFFSETTO:-0500
TZNAME:CDT
DTSTART:20260308T080000
END:DAYLIGHT
BEGIN:STANDARD
TZOFFSETFROM:-0500
TZOFFSETTO:-0600
TZNAME:CST
DTSTART:20261101T070000
END:STANDARD
BEGIN:DAYLIGHT
TZOFFSETFROM:-0600
TZOFFSETTO:-0500
TZNAME:CDT
DTSTART:20270314T080000
END:DAYLIGHT
BEGIN:STANDARD
TZOFFSETFROM:-0500
TZOFFSETTO:-0600
TZNAME:CST
DTSTART:20271107T070000
END:STANDARD
END:VTIMEZONE
BEGIN:VEVENT
DTSTART;TZID=America/Chicago:20251121T080000
DTEND;TZID=America/Chicago:20251124T170000
DTSTAMP:20260421T155626
CREATED:20251117T025529Z
LAST-MODIFIED:20251117T025639Z
UID:682-1763712000-1764003600@alianzalatinainternacional.org
SUMMARY:Winter Camp 2025
DESCRIPTION:Blue and Yellow Illustrated Summer Camp Presentation (2)
URL:https://alianzalatinainternacional.org/event/682/
END:VEVENT
BEGIN:VEVENT
DTSTART;TZID=America/Chicago:20260131T123000
DTEND;TZID=America/Chicago:20260131T170000
DTSTAMP:20260421T155626
CREATED:20260117T182432Z
LAST-MODIFIED:20260117T182432Z
UID:696-1769862600-1769878800@alianzalatinainternacional.org
SUMMARY:ART CLASSES
DESCRIPTION:
URL:https://alianzalatinainternacional.org/event/art-classes/
END:VEVENT
BEGIN:VEVENT
DTSTART;TZID=America/Chicago:20260214T123000
DTEND;TZID=America/Chicago:20260214T170000
DTSTAMP:20260421T155626
CREATED:20260212T193026Z
LAST-MODIFIED:20260212T193026Z
UID:701-1771072200-1771088400@alianzalatinainternacional.org
SUMMARY:Let's celebrate valentines with art!
DESCRIPTION:
URL:https://alianzalatinainternacional.org/event/lets-celebrate-valentines-with-art/
END:VEVENT
BEGIN:VEVENT
DTSTART;TZID=America/Chicago:20260307T080000
DTEND;TZID=America/Chicago:20260309T170000
DTSTAMP:20260421T155626
CREATED:20260227T000157Z
LAST-MODIFIED:20260227T001047Z
UID:709-1772870400-1773075600@alianzalatinainternacional.org
SUMMARY:Summer Camp 2026.
DESCRIPTION:DOC-20251116-WA0049. (2)
URL:https://alianzalatinainternacional.org/event/summer-camp-2026/
END:VEVENT
END:VCALENDAR