BEGIN:VCALENDAR
VERSION:2.0
PRODID:-//Alianza Latina Internacional - ECPv6.15.20//NONSGML v1.0//EN
CALSCALE:GREGORIAN
METHOD:PUBLISH
X-WR-CALNAME:Alianza Latina Internacional
X-ORIGINAL-URL:https://alianzalatinainternacional.org
X-WR-CALDESC:Events for Alianza Latina Internacional
REFRESH-INTERVAL;VALUE=DURATION:PT1H
X-Robots-Tag:noindex
X-PUBLISHED-TTL:PT1H
BEGIN:VTIMEZONE
TZID:America/Chicago
BEGIN:DAYLIGHT
TZOFFSETFROM:-0600
TZOFFSETTO:-0500
TZNAME:CDT
DTSTART:20210314T080000
END:DAYLIGHT
BEGIN:STANDARD
TZOFFSETFROM:-0500
TZOFFSETTO:-0600
TZNAME:CST
DTSTART:20211107T070000
END:STANDARD
BEGIN:DAYLIGHT
TZOFFSETFROM:-0600
TZOFFSETTO:-0500
TZNAME:CDT
DTSTART:20220313T080000
END:DAYLIGHT
BEGIN:STANDARD
TZOFFSETFROM:-0500
TZOFFSETTO:-0600
TZNAME:CST
DTSTART:20221106T070000
END:STANDARD
BEGIN:DAYLIGHT
TZOFFSETFROM:-0600
TZOFFSETTO:-0500
TZNAME:CDT
DTSTART:20230312T080000
END:DAYLIGHT
BEGIN:STANDARD
TZOFFSETFROM:-0500
TZOFFSETTO:-0600
TZNAME:CST
DTSTART:20231105T070000
END:STANDARD
BEGIN:DAYLIGHT
TZOFFSETFROM:-0600
TZOFFSETTO:-0500
TZNAME:CDT
DTSTART:20240310T080000
END:DAYLIGHT
BEGIN:STANDARD
TZOFFSETFROM:-0500
TZOFFSETTO:-0600
TZNAME:CST
DTSTART:20241103T070000
END:STANDARD
BEGIN:DAYLIGHT
TZOFFSETFROM:-0600
TZOFFSETTO:-0500
TZNAME:CDT
DTSTART:20250309T080000
END:DAYLIGHT
BEGIN:STANDARD
TZOFFSETFROM:-0500
TZOFFSETTO:-0600
TZNAME:CST
DTSTART:20251102T070000
END:STANDARD
END:VTIMEZONE
BEGIN:VTIMEZONE
TZID:UTC
BEGIN:STANDARD
TZOFFSETFROM:+0000
TZOFFSETTO:+0000
TZNAME:UTC
DTSTART:20200101T000000
END:STANDARD
END:VTIMEZONE
BEGIN:VEVENT
DTSTART;TZID=America/Chicago:20240211T123000
DTEND;TZID=America/Chicago:20240211T143000
DTSTAMP:20260421T130457
CREATED:20240207T232052Z
LAST-MODIFIED:20240207T232100Z
UID:446-1707654600-1707661800@alianzalatinainternacional.org
SUMMARY:Community Forum
DESCRIPTION:← Back Thank you for your response. ✨\n\n\n					\n						\n							\n							\n						\n						\n						\n						\n						\n							\n								\n									\n										\n										\n									\n									\n										\n										\n									\n								\n							\n						\n						\n							\n								\n									\n									\n										\n									\n									\n									\n								\n							\n						\n					\n				\n\n\n\nName(required)\n\n \n			\n				\n					\n						\n						\n						\n					\n				\n				\n			 \n	\n\n\nEmail(required)\n\n \n			\n				\n					\n						\n						\n						\n					\n				\n				\n			 \n	\n\n\nWebsite\n\n \n			\n				\n					\n						\n						\n						\n					\n				\n				\n			 \n	\n\n\nMessage\n\n \n			\n				\n					\n						\n						\n						\n					\n				\n				\n			\n	\n	\n\n				\n					\n				\n						Submit
URL:https://alianzalatinainternacional.org/event/community-forum/
END:VEVENT
BEGIN:VEVENT
DTSTART;TZID=America/Chicago:20240128T130000
DTEND;TZID=America/Chicago:20240128T150000
DTSTAMP:20260421T130457
CREATED:20240126T204711Z
LAST-MODIFIED:20240126T204837Z
UID:437-1706446800-1706454000@alianzalatinainternacional.org
SUMMARY:Scholarship workshop
DESCRIPTION:
URL:https://alianzalatinainternacional.org/event/scholarships-workshop/
END:VEVENT
BEGIN:VEVENT
DTSTART;TZID=America/Chicago:20240115T073000
DTEND;TZID=America/Chicago:20240115T113000
DTSTAMP:20260421T130457
CREATED:20231228T192808Z
LAST-MODIFIED:20231228T195112Z
UID:414-1705303800-1705318200@alianzalatinainternacional.org
SUMMARY:Martin Luther King Parade
DESCRIPTION:
URL:https://alianzalatinainternacional.org/event/martin-luther-king/
END:VEVENT
BEGIN:VEVENT
DTSTART;TZID=America/Chicago:20231202T130000
DTEND;TZID=America/Chicago:20231202T150000
DTSTAMP:20260421T130457
CREATED:20231114T234219Z
LAST-MODIFIED:20231114T234231Z
UID:399-1701522000-1701529200@alianzalatinainternacional.org
SUMMARY:Know Your Rights
DESCRIPTION:
URL:https://alianzalatinainternacional.org/event/know-your-rights/
END:VEVENT
BEGIN:VEVENT
DTSTART;TZID=America/Chicago:20231028T120000
DTEND;TZID=America/Chicago:20231028T170000
DTSTAMP:20260421T130457
CREATED:20231015T024648Z
LAST-MODIFIED:20231015T031537Z
UID:363-1698494400-1698512400@alianzalatinainternacional.org
SUMMARY:Parade Del Dia De Muertos!!
DESCRIPTION:Would you like to be part of this celebration? drop us a line 832 896 3204
URL:https://alianzalatinainternacional.org/event/parade-del-dia-de-muertos/
END:VEVENT
BEGIN:VEVENT
DTSTART;TZID=America/Chicago:20230915T163000
DTEND;TZID=America/Chicago:20230915T170000
DTSTAMP:20260421T130457
CREATED:20230907T002635Z
LAST-MODIFIED:20230907T002635Z
UID:338-1694795400-1694797200@alianzalatinainternacional.org
SUMMARY:ART& ALEBRIJES EXHIBITION AT ALLEY THEATRE
DESCRIPTION:Art
URL:https://alianzalatinainternacional.org/event/art-alebrijes-exhibition-at-alley-theatre/
END:VEVENT
BEGIN:VEVENT
DTSTART;TZID=America/Chicago:20230909T123000
DTEND;TZID=America/Chicago:20230909T150000
DTSTAMP:20260421T130457
CREATED:20230413T225957Z
LAST-MODIFIED:20230413T225957Z
UID:230-1694262600-1694271600@alianzalatinainternacional.org
SUMMARY:Teens For The Future (Puberty)
DESCRIPTION: Discutir e identificar los cambios\nemocionales y físicos de la pubertad.\n Identificar el impacto de la conciencia social\ndurante la pubertad\n Discutir los vínculos entre la anatomía y la\npubertad.\n Discutir los sentimientos sexuales\nemergentes y la diferencia entre los\nsentimientos sexuales y la disposición sexual. \n Discuss and identify changes\nemotional and physical puberty.\n Identify the impact of social awareness\nduring puberty\n Discuss the links between anatomy and\npuberty.\n Discuss sexual feelings\nemerging and the difference between\nsexual feelings and disposition\nsexual.
URL:https://alianzalatinainternacional.org/event/teens-for-the-future-puberty/
END:VEVENT
BEGIN:VEVENT
DTSTART;TZID=America/Chicago:20230812T130000
DTEND;TZID=America/Chicago:20230812T150000
DTSTAMP:20260421T130457
CREATED:20230809T173536Z
LAST-MODIFIED:20230809T173536Z
UID:335-1691845200-1691852400@alianzalatinainternacional.org
SUMMARY:ARTEENS CLASS
DESCRIPTION:Positive Youth Development trough the arts.
URL:https://alianzalatinainternacional.org/event/arteens-class/
END:VEVENT
BEGIN:VEVENT
DTSTART;TZID=America/Chicago:20230805T130000
DTEND;TZID=America/Chicago:20230805T150000
DTSTAMP:20260421T130457
CREATED:20230619T204652Z
LAST-MODIFIED:20230718T174016Z
UID:268-1691240400-1691247600@alianzalatinainternacional.org
SUMMARY:Disaster Preparedness
DESCRIPTION:Taller de preparación de desastres\, para personas de la tercera edad y para familias que tengan un familiar discapacitado. se les regalagara un kit de preparación. \nDisaster preparation workshop for seniors and families with a disabled relative. We are going to give you a preparation kit.
URL:https://alianzalatinainternacional.org/event/disaster-preparedness/
END:VEVENT
BEGIN:VEVENT
DTSTART;TZID=America/Chicago:20230729T130000
DTEND;TZID=America/Chicago:20230729T150000
DTSTAMP:20260421T130457
CREATED:20230619T211124Z
LAST-MODIFIED:20230619T211124Z
UID:282-1690635600-1690642800@alianzalatinainternacional.org
SUMMARY:Disaster Preparedness workshop-Preparacion de desastres
DESCRIPTION:Taller de preparación de desastres\, para personas de la tercera edad y para familias que tengan un familiar discapacitado. se les regalagara un kit de preparación. \nDisaster preparation workshop for seniors and families with a disabled relative. We are going to give you a preparation kit.
URL:https://alianzalatinainternacional.org/event/disaster-preparedness-workshop-preparacion-de-desastres/
END:VEVENT
BEGIN:VEVENT
DTSTART;TZID=America/Chicago:20230729T000000
DTEND;TZID=America/Chicago:20230729T150000
DTSTAMP:20260421T130457
CREATED:20230413T225720Z
LAST-MODIFIED:20230413T225720Z
UID:228-1690588800-1690642800@alianzalatinainternacional.org
SUMMARY:Teens For The Future (Reproductive Anatomy)
DESCRIPTION: Identificar partes clave de la anatomía. Identify key parts of the anatomy.\n Discuss the connection between anatomy and\nreproduction.\n Define the menstrual cycle and the connection with\nReproduction \n Identify key parts of the anatomy.\n Discuss the connection between anatomy and\nreproduction.\n Define the menstrual cycle and the connection with\nReproduction\n Explain how pregnancy occurs \n  \n  \n 
URL:https://alianzalatinainternacional.org/event/teens-for-the-future-reproductive-anatomy/
END:VEVENT
BEGIN:VEVENT
DTSTART;TZID=America/Chicago:20230722T090000
DTEND;TZID=America/Chicago:20230722T110000
DTSTAMP:20260421T130457
CREATED:20230718T172909Z
LAST-MODIFIED:20230718T172909Z
UID:297-1690016400-1690023600@alianzalatinainternacional.org
SUMMARY:School supplies distribution.
DESCRIPTION:← Back Thank you for your response. ✨\n\n\n					\n						\n							\n							\n						\n						\n						\n						\n						\n							\n								\n									\n										\n										\n									\n									\n										\n										\n									\n								\n							\n						\n						\n							\n								\n									\n									\n										\n									\n									\n									\n								\n							\n						\n					\n				\n\n\n\nName(required)\n\n \n			\n				\n					\n						\n						\n						\n					\n				\n				\n			 \n	\n\n\nEmail(required)\n\n \n			\n				\n					\n						\n						\n						\n					\n				\n				\n			 \n	\n\n\nWebsite\n\n \n			\n				\n					\n						\n						\n						\n					\n				\n				\n			 \n	\n\n\nMessage\n\n \n			\n				\n					\n						\n						\n						\n					\n				\n				\n			\n	\n	\n\n				\n					\n				\n						Submit
URL:https://alianzalatinainternacional.org/event/school-supplies-distribution/
END:VEVENT
BEGIN:VEVENT
DTSTART;TZID=America/Chicago:20230715T130000
DTEND;TZID=America/Chicago:20230715T150000
DTSTAMP:20260421T130457
CREATED:20230718T175936Z
LAST-MODIFIED:20230718T180019Z
UID:305-1689426000-1689433200@alianzalatinainternacional.org
SUMMARY:ARTEENS WORKSHOP
DESCRIPTION:We encourage our teens to express their emotions through art\, they came to make new friends\, had fun\, explored new ideas and learned how to make beautiful cultural art.
URL:https://alianzalatinainternacional.org/event/arteens-workshop/
END:VEVENT
BEGIN:VEVENT
DTSTART;TZID=America/Chicago:20230702T110000
DTEND;TZID=America/Chicago:20230702T150000
DTSTAMP:20260421T130457
CREATED:20230218T190151Z
LAST-MODIFIED:20230718T181042Z
UID:307-1688295600-1688310000@alianzalatinainternacional.org
SUMMARY:ARTEENS WORKSHOP
DESCRIPTION:We encourage our teens to express their emotions through art\, they came to make new friends\, had fun\, explored new ideas and learned how to make beautiful cultural art.
URL:https://alianzalatinainternacional.org/event/arteens-workshop-2/
END:VEVENT
BEGIN:VEVENT
DTSTART;TZID=America/Chicago:20230624T130000
DTEND;TZID=America/Chicago:20230624T150000
DTSTAMP:20260421T130457
CREATED:20230619T210033Z
LAST-MODIFIED:20230619T210033Z
UID:275-1687611600-1687618800@alianzalatinainternacional.org
SUMMARY:Taller de preparacion de desastres- disaster prepardness workshop
DESCRIPTION:Taller de preparación de desastres\, para personas de la tercera edad y para familias que tengan un familiar discapacitado. se les regalagara un kit de preparación. \nDisaster preparation workshop for seniors and families with a disabled relative. We are going to give you a preparation kit.
URL:https://alianzalatinainternacional.org/event/taller-de-preparacion-de-desastres-disaster-prepardness-workshop/
END:VEVENT
BEGIN:VEVENT
DTSTART;TZID=America/Chicago:20230603T130000
DTEND;TZID=America/Chicago:20230603T150000
DTSTAMP:20260421T130457
CREATED:20230618T181459Z
LAST-MODIFIED:20230718T183416Z
UID:309-1685797200-1685804400@alianzalatinainternacional.org
SUMMARY:ARTEENS WORSHOP
DESCRIPTION:We encourage our teens to express their emotions through art\, they came to make new friends\, had fun\, explored new ideas and learned how to make beautiful cultural art
URL:https://alianzalatinainternacional.org/event/arteens-worshop/
END:VEVENT
BEGIN:VEVENT
DTSTART;TZID=America/Chicago:20230531T080000
DTEND;TZID=America/Chicago:20230531T170000
DTSTAMP:20260421T130457
CREATED:20230601T184947Z
LAST-MODIFIED:20230531T191228Z
UID:258-1685520000-1685552400@alianzalatinainternacional.org
SUMMARY:Boycott of support of our brothers and sister in Florida
DESCRIPTION:
URL:https://alianzalatinainternacional.org/event/boycott-of-support-of-our-brothers-and-sister-in-florida/
END:VEVENT
BEGIN:VEVENT
DTSTART;TZID=America/Chicago:20230430T123000
DTEND;TZID=America/Chicago:20230430T150000
DTSTAMP:20260421T130457
CREATED:20230413T224242Z
LAST-MODIFIED:20230413T225343Z
UID:222-1682857800-1682866800@alianzalatinainternacional.org
SUMMARY:Teens For The Future (body Image)
DESCRIPTION:TEENS FOR THE FUTURE CLUB CLASES \n Describe the distinction between image\nPositive and negative body.\n describe two factors that may influence\nbody image.\n explain four connections between the image \n\n← Back Thank you for your response. ✨\n\n\n					\n						\n							\n							\n						\n						\n						\n						\n						\n							\n								\n									\n										\n										\n									\n									\n										\n										\n									\n								\n							\n						\n						\n							\n								\n									\n									\n										\n									\n									\n									\n								\n							\n						\n					\n				\n\n\n\nName(required)\n\n \n			\n				\n					\n						\n						\n						\n					\n				\n				\n			 \n	\n\n\nEmail(required)\n\n \n			\n				\n					\n						\n						\n						\n					\n				\n				\n			 \n	\n\n\nWebsite\n\n \n			\n				\n					\n						\n						\n						\n					\n				\n				\n			 \n	\n\n\nMessage\n\n \n			\n				\n					\n						\n						\n						\n					\n				\n				\n			\n	\n	\n\n				\n					\n				\n						Submit		\n		\n		\n	 \n\n\n\n← Back Thank you for your response. ✨\n\n\n					\n						\n							\n							\n						\n						\n						\n						\n						\n							\n								\n									\n										\n										\n									\n									\n										\n										\n									\n								\n							\n						\n						\n							\n								\n									\n									\n										\n									\n									\n									\n								\n							\n						\n					\n				\n\n\n\nName(required)\n\n \n			\n				\n					\n						\n						\n						\n					\n				\n				\n			 \n	\n\n\nEmail(required)\n\n \n			\n				\n					\n						\n						\n						\n					\n				\n				\n			 \n	\n\n\nWebsite\n\n \n			\n				\n					\n						\n						\n						\n					\n				\n				\n			 \n	\n\n\nMessage\n\n \n			\n				\n					\n						\n						\n						\n					\n				\n				\n			\n	\n	\n\n				\n					\n				\n						Submit		\n		\n		\n	 \n\n\nbodily and other aspects of sexuality \n Describir la distinción entre imagen\ncorporal positiva y negativa.\n describir dos factores que pueden influir en\nla imagen corporal.\n explicar cuatro conexiones entre la imagen\ncorporal y otros aspectos de la sexualidad
URL:https://alianzalatinainternacional.org/event/body-image-teens-for-the-future/
END:VEVENT
BEGIN:VEVENT
DTSTART;TZID=America/Chicago:20230422T120000
DTEND;TZID=America/Chicago:20230422T143000
DTSTAMP:20260421T130457
CREATED:20230413T232008Z
LAST-MODIFIED:20230413T232008Z
UID:235-1682164800-1682173800@alianzalatinainternacional.org
SUMMARY:Know your rights- Conoce tus derechos (Immigration)
DESCRIPTION:You have the right to remain silent and do not have to discuss your immigration or citizenship status with police\, immigration agents\, or other officials. Anything you tell an officer can later be used against you in immigration court.\nIf you are not a U.S. citizen and an immigration agent requests your immigration papers\, you must show them if you have them with you.\nIf an immigration agent asks if they can search you\, you have the right to say no. Agents do not have the right to search you or your belongings without your consent or probable cause.\nIf you’re over 18\, carry your papers with you at all times. If you don’t have them\, tell the officer that you want to remain silent\, or that you want to consult a lawyer before answering any questions.\nUsted tiene derecho a permanecer en silencio y no tiene que discutir su estatus migratorio o de ciudadanía con la policía\, agentes de inmigración u otros funcionarios. Cualquier cosa que le diga a un oficial puede ser utilizada en su contra en la corte de inmigración.\nSi usted no es ciudadano estadounidense y un agente de inmigración solicita sus documentos de inmigración\, debe mostrarlos si los tiene con usted.\nSi tienes más de 18 años\, lleva tus papeles contigo en todo momento. Si no los tiene\, dígale al oficial que desea permanecer en silencio o que desea consultar a un abogado antes de responder cualquier pregunta.
URL:https://alianzalatinainternacional.org/event/know-your-rights-conoce-tus-derechos-immigration/
END:VEVENT
BEGIN:VEVENT
DTSTART;TZID=America/Chicago:20230225T123000
DTEND;TZID=America/Chicago:20230225T143000
DTSTAMP:20260421T130457
CREATED:20230211T041946Z
LAST-MODIFIED:20230211T042251Z
UID:212-1677328200-1677335400@alianzalatinainternacional.org
SUMMARY:Celebrating the 2nd anniversary of our Teens For The Future Club.
DESCRIPTION:
URL:https://alianzalatinainternacional.org/event/celebrate-our-program-life-skills-2nd-anniversary/
END:VEVENT
BEGIN:VEVENT
DTSTART;TZID=America/Chicago:20230211T130000
DTEND;TZID=America/Chicago:20230211T150000
DTSTAMP:20260421T130457
CREATED:20230211T043434Z
LAST-MODIFIED:20230211T043434Z
UID:217-1676120400-1676127600@alianzalatinainternacional.org
SUMMARY:Teens For The Future Orientation   (teens and moms)
DESCRIPTION:  \nWe invite you on Saturday the 11th to learn to talk to your adolescent children about their puberty\n\n\nParent orientation/Intro to sexuality\n\n\n – Este sábado presentaremos el programa y el espacio servirá para contestar preguntas que las mamas tengan con respecto al programa. les vamos a llevar una hoja informativa sobre el tema y los objetivos de la presentación.
URL:https://alianzalatinainternacional.org/event/teens-for-the-future-orientation-teens-and-moms/
END:VEVENT
BEGIN:VEVENT
DTSTART;TZID=America/Chicago:20230115T080000
DTEND;TZID=America/Chicago:20230115T080000
DTSTAMP:20260421T130457
CREATED:20221120T024046Z
LAST-MODIFIED:20221120T024046Z
UID:196-1673769600-1673769600@alianzalatinainternacional.org
SUMMARY:Martin Luther King Parade
DESCRIPTION:Join us in marching in honor of our human rights activist in downtown Houston on January 15\, 2022.
URL:https://alianzalatinainternacional.org/event/martin-luther-king-parade/
END:VEVENT
BEGIN:VEVENT
DTSTART;TZID=America/Chicago:20221128T080000
DTEND;TZID=America/Chicago:20230101T170000
DTSTAMP:20260421T130457
CREATED:20221129T051435Z
LAST-MODIFIED:20221129T052253Z
UID:201-1669622400-1672592400@alianzalatinainternacional.org
SUMMARY:Volunteers needing
DESCRIPTION:Volunteers Needed-ALI
URL:https://alianzalatinainternacional.org/event/volunteers-needing/
END:VEVENT
BEGIN:VEVENT
DTSTART;TZID=America/Chicago:20220402T120000
DTEND;TZID=America/Chicago:20220402T153000
DTSTAMP:20260421T130457
CREATED:20220322T022303Z
LAST-MODIFIED:20220322T022303Z
UID:163-1648900800-1648913400@alianzalatinainternacional.org
SUMMARY:Taller de derechos
DESCRIPTION:← Back Thank you for your response. ✨\n\n\n					\n						\n							\n							\n						\n						\n						\n						\n						\n							\n								\n									\n										\n										\n									\n									\n										\n										\n									\n								\n							\n						\n						\n							\n								\n									\n									\n										\n									\n									\n									\n								\n							\n						\n					\n				\n\n\n\nMartina(required)\n\n \n			\n				\n					\n						\n						\n						\n					\n				\n				\n			 \n	\n\n\nEmail(required)\n\n \n			\n				\n					\n						\n						\n						\n					\n				\n				\n			 \n	\n\n\nWebsite\n\n \n			\n				\n					\n						\n						\n						\n					\n				\n				\n			 \n	\n\n\nMessage\n\n \n			\n				\n					\n						\n						\n						\n					\n				\n				\n			\n	\n	\n\n				\n					\n				\n						Submit
URL:https://alianzalatinainternacional.org/event/taller-de-derechos/
LOCATION:Human Rights Work Shop\, 1414 Wirt Rd\, Houston Texas\, TX\, 77055\, United States
ORGANIZER;CN="Border Workers United":MAILTO:martinagrifaldo@yahoo.com
END:VEVENT
BEGIN:VEVENT
DTSTART;TZID=UTC:20210904T080000
DTEND;TZID=UTC:20210904T170000
DTSTAMP:20260421T130457
CREATED:20210901T064644Z
LAST-MODIFIED:20210901T064644Z
UID:148-1630742400-1630774800@alianzalatinainternacional.org
SUMMARY:New website completion
DESCRIPTION:New Website Completion
URL:https://alianzalatinainternacional.org/event/new-website-completion/
END:VEVENT
END:VCALENDAR