BEGIN:VCALENDAR
VERSION:2.0
PRODID:-//Alianza Latina Internacional - ECPv6.15.20//NONSGML v1.0//EN
CALSCALE:GREGORIAN
METHOD:PUBLISH
X-WR-CALNAME:Alianza Latina Internacional
X-ORIGINAL-URL:https://alianzalatinainternacional.org
X-WR-CALDESC:Events for Alianza Latina Internacional
REFRESH-INTERVAL;VALUE=DURATION:PT1H
X-Robots-Tag:noindex
X-PUBLISHED-TTL:PT1H
BEGIN:VTIMEZONE
TZID:America/Chicago
BEGIN:DAYLIGHT
TZOFFSETFROM:-0600
TZOFFSETTO:-0500
TZNAME:CDT
DTSTART:20240310T080000
END:DAYLIGHT
BEGIN:STANDARD
TZOFFSETFROM:-0500
TZOFFSETTO:-0600
TZNAME:CST
DTSTART:20241103T070000
END:STANDARD
BEGIN:DAYLIGHT
TZOFFSETFROM:-0600
TZOFFSETTO:-0500
TZNAME:CDT
DTSTART:20250309T080000
END:DAYLIGHT
BEGIN:STANDARD
TZOFFSETFROM:-0500
TZOFFSETTO:-0600
TZNAME:CST
DTSTART:20251102T070000
END:STANDARD
BEGIN:DAYLIGHT
TZOFFSETFROM:-0600
TZOFFSETTO:-0500
TZNAME:CDT
DTSTART:20260308T080000
END:DAYLIGHT
BEGIN:STANDARD
TZOFFSETFROM:-0500
TZOFFSETTO:-0600
TZNAME:CST
DTSTART:20261101T070000
END:STANDARD
BEGIN:DAYLIGHT
TZOFFSETFROM:-0600
TZOFFSETTO:-0500
TZNAME:CDT
DTSTART:20270314T080000
END:DAYLIGHT
BEGIN:STANDARD
TZOFFSETFROM:-0500
TZOFFSETTO:-0600
TZNAME:CST
DTSTART:20271107T070000
END:STANDARD
END:VTIMEZONE
BEGIN:VEVENT
DTSTART;TZID=America/Chicago:20250125T123000
DTEND;TZID=America/Chicago:20250125T140000
DTSTAMP:20260421T074951
CREATED:20250106T182332Z
LAST-MODIFIED:20250106T184018Z
UID:589-1737808200-1737813600@alianzalatinainternacional.org
SUMMARY:CIBER SEGURIDAD BY CRIME STOPPERS
DESCRIPTION:← Back Thank you for your response. ✨\n\n\n					\n						\n							\n							\n						\n						\n						\n						\n						\n							\n								\n									\n										\n										\n									\n									\n										\n										\n									\n								\n							\n						\n						\n							\n								\n									\n									\n										\n									\n									\n									\n								\n							\n						\n					\n				\n\n\n\nName(required)\n\n \n			\n				\n					\n						\n						\n						\n					\n				\n				\n			 \n	\n\n\nEmail(required)\n\n \n			\n				\n					\n						\n						\n						\n					\n				\n				\n			 \n	\n\n\nWebsite\n\n \n			\n				\n					\n						\n						\n						\n					\n				\n				\n			 \n	\n\n\nMessage\n\n \n			\n				\n					\n						\n						\n						\n					\n				\n				\n			\n	\n	\n\n				\n					\n				\n						Submit
URL:https://alianzalatinainternacional.org/event/ciber-seguridad-by-crime-stoppers/
END:VEVENT
BEGIN:VEVENT
DTSTART;TZID=America/Chicago:20250125T130000
DTEND;TZID=America/Chicago:20250125T153000
DTSTAMP:20260421T074951
CREATED:20250106T182524Z
LAST-MODIFIED:20250106T182545Z
UID:592-1737810000-1737819000@alianzalatinainternacional.org
SUMMARY:ART WORKSHOP
DESCRIPTION:A
URL:https://alianzalatinainternacional.org/event/art-workshop/
END:VEVENT
BEGIN:VEVENT
DTSTART;TZID=America/Chicago:20250222T130000
DTEND;TZID=America/Chicago:20250222T150000
DTSTAMP:20260421T074951
CREATED:20250220T203250Z
LAST-MODIFIED:20250220T203250Z
UID:615-1740229200-1740236400@alianzalatinainternacional.org
SUMMARY:Art Speaks Workshop
DESCRIPTION:
URL:https://alianzalatinainternacional.org/event/art-speaks-workshop/
END:VEVENT
BEGIN:VEVENT
DTSTART;TZID=America/Chicago:20250225T190000
DTEND;TZID=America/Chicago:20250225T200000
DTSTAMP:20260421T074951
CREATED:20250220T203459Z
LAST-MODIFIED:20250220T203510Z
UID:619-1740510000-1740513600@alianzalatinainternacional.org
SUMMARY:Know Your Rights zoom meeting.
DESCRIPTION:
URL:https://alianzalatinainternacional.org/event/know-your-rights-zoom-meeting/
END:VEVENT
BEGIN:VEVENT
DTSTART;TZID=America/Chicago:20250322T123000
DTEND;TZID=America/Chicago:20250322T160000
DTSTAMP:20260421T074951
CREATED:20250314T043002Z
LAST-MODIFIED:20250314T043002Z
UID:624-1742646600-1742659200@alianzalatinainternacional.org
SUMMARY:Celebrate Teens For The Future 4th\, Anniversary.
DESCRIPTION:
URL:https://alianzalatinainternacional.org/event/celebrate-teens-for-the-future-4th-anniversary/
END:VEVENT
BEGIN:VEVENT
DTSTART;TZID=America/Chicago:20250405T080000
DTEND;TZID=America/Chicago:20250405T170000
DTSTAMP:20260421T074951
CREATED:20250314T043131Z
LAST-MODIFIED:20250314T043131Z
UID:628-1743840000-1743872400@alianzalatinainternacional.org
SUMMARY:SPRING ART-CAMPING
DESCRIPTION:
URL:https://alianzalatinainternacional.org/event/spring-art-camping/
END:VEVENT
BEGIN:VEVENT
DTSTART;TZID=America/Chicago:20250503T100000
DTEND;TZID=America/Chicago:20250503T130000
DTSTAMP:20260421T074951
CREATED:20250417T234227Z
LAST-MODIFIED:20250417T234227Z
UID:654-1746266400-1746277200@alianzalatinainternacional.org
SUMMARY:Peaceful march for dignity
DESCRIPTION:
URL:https://alianzalatinainternacional.org/event/peaceful-march-for-dignity/
END:VEVENT
BEGIN:VEVENT
DTSTART;TZID=America/Chicago:20250503T130000
DTEND;TZID=America/Chicago:20250503T160000
DTSTAMP:20260421T074951
CREATED:20250417T233534Z
LAST-MODIFIED:20250417T233534Z
UID:648-1746277200-1746288000@alianzalatinainternacional.org
SUMMARY:Robotics Sample Online Work Shop
DESCRIPTION:https://alianzalatinainternacional.org/wp-content/uploads/2025/04/Robotics-online-W.S.mp4
URL:https://alianzalatinainternacional.org/event/robotics-sample-online-work-shop/
END:VEVENT
BEGIN:VEVENT
DTSTART;TZID=America/Chicago:20250521T180000
DTEND;TZID=America/Chicago:20250521T200000
DTSTAMP:20260421T074951
CREATED:20250513T174432Z
LAST-MODIFIED:20250513T174432Z
UID:660-1747850400-1747857600@alianzalatinainternacional.org
SUMMARY:Black Immigration Roundtable
DESCRIPTION:📍 Date: Wednesday\, May 21\, 2025\n🕕 Time: 6:00 PM CST\n📍 Location: Alief Neighborhood Center\n11903 Bellaire Blvd\, Houston\, TX 77072
URL:https://alianzalatinainternacional.org/event/black-immigration-roundtable/
END:VEVENT
BEGIN:VEVENT
DTSTART;TZID=America/Chicago:20250816T080000
DTEND;TZID=America/Chicago:20250816T090000
DTSTAMP:20260421T074951
CREATED:20250902T031749Z
LAST-MODIFIED:20250902T031843Z
UID:673-1755331200-1755334800@alianzalatinainternacional.org
SUMMARY:School Supplies for needing students
DESCRIPTION:He will donate school supplies for the kids\, their parents were deported.
URL:https://alianzalatinainternacional.org/event/school-supplies-for-needing-students/
END:VEVENT
BEGIN:VEVENT
DTSTART;TZID=America/Chicago:20250906T130000
DTEND;TZID=America/Chicago:20250906T150000
DTSTAMP:20260421T074951
CREATED:20250902T030547Z
LAST-MODIFIED:20250902T030547Z
UID:670-1757163600-1757170800@alianzalatinainternacional.org
SUMMARY:Art Workshop For Teens
DESCRIPTION:
URL:https://alianzalatinainternacional.org/event/art-workshop-for-teens/
END:VEVENT
BEGIN:VEVENT
DTSTART;TZID=America/Chicago:20251117T080000
DTEND;TZID=America/Chicago:20260131T170000
DTSTAMP:20260421T074951
CREATED:20251117T030743Z
LAST-MODIFIED:20251117T030850Z
UID:688-1763366400-1769878800@alianzalatinainternacional.org
SUMMARY:Donation Collection and distribution center.
DESCRIPTION:We need your help with donations of canned food\, blankets\, jackets\, or cash to help single mothers who are suffering the effects of the current situation. \nWe provide food\, blankets\, jackets\, or cash to anyone in need.
URL:https://alianzalatinainternacional.org/event/688/
END:VEVENT
BEGIN:VEVENT
DTSTART;TZID=America/Chicago:20251121T080000
DTEND;TZID=America/Chicago:20251124T170000
DTSTAMP:20260421T074951
CREATED:20251117T025529Z
LAST-MODIFIED:20251117T025639Z
UID:682-1763712000-1764003600@alianzalatinainternacional.org
SUMMARY:Winter Camp 2025
DESCRIPTION:Blue and Yellow Illustrated Summer Camp Presentation (2)
URL:https://alianzalatinainternacional.org/event/682/
END:VEVENT
BEGIN:VEVENT
DTSTART;TZID=America/Chicago:20260131T123000
DTEND;TZID=America/Chicago:20260131T170000
DTSTAMP:20260421T074951
CREATED:20260117T182432Z
LAST-MODIFIED:20260117T182432Z
UID:696-1769862600-1769878800@alianzalatinainternacional.org
SUMMARY:ART CLASSES
DESCRIPTION:
URL:https://alianzalatinainternacional.org/event/art-classes/
END:VEVENT
BEGIN:VEVENT
DTSTART;TZID=America/Chicago:20260214T123000
DTEND;TZID=America/Chicago:20260214T170000
DTSTAMP:20260421T074951
CREATED:20260212T193026Z
LAST-MODIFIED:20260212T193026Z
UID:701-1771072200-1771088400@alianzalatinainternacional.org
SUMMARY:Let's celebrate valentines with art!
DESCRIPTION:
URL:https://alianzalatinainternacional.org/event/lets-celebrate-valentines-with-art/
END:VEVENT
BEGIN:VEVENT
DTSTART;TZID=America/Chicago:20260307T080000
DTEND;TZID=America/Chicago:20260309T170000
DTSTAMP:20260421T074951
CREATED:20260227T000157Z
LAST-MODIFIED:20260227T001047Z
UID:709-1772870400-1773075600@alianzalatinainternacional.org
SUMMARY:Summer Camp 2026.
DESCRIPTION:DOC-20251116-WA0049. (2)
URL:https://alianzalatinainternacional.org/event/summer-camp-2026/
END:VEVENT
END:VCALENDAR